BEGIN:VCALENDAR
VERSION:2.0
PRODID:-//Dein BOB&#039;S - ECPv6.15.20//NONSGML v1.0//EN
CALSCALE:GREGORIAN
METHOD:PUBLISH
X-WR-CALNAME:Dein BOB&#039;S
X-ORIGINAL-URL:https://bobs.de
X-WR-CALDESC:Veranstaltungen für Dein BOB&#039;S
REFRESH-INTERVAL;VALUE=DURATION:PT1H
X-Robots-Tag:noindex
X-PUBLISHED-TTL:PT1H
BEGIN:VTIMEZONE
TZID:Europe/Berlin
BEGIN:DAYLIGHT
TZOFFSETFROM:+0100
TZOFFSETTO:+0200
TZNAME:CEST
DTSTART:20250330T010000
END:DAYLIGHT
BEGIN:STANDARD
TZOFFSETFROM:+0200
TZOFFSETTO:+0100
TZNAME:CET
DTSTART:20251026T010000
END:STANDARD
BEGIN:DAYLIGHT
TZOFFSETFROM:+0100
TZOFFSETTO:+0200
TZNAME:CEST
DTSTART:20260329T010000
END:DAYLIGHT
BEGIN:STANDARD
TZOFFSETFROM:+0200
TZOFFSETTO:+0100
TZNAME:CET
DTSTART:20261025T010000
END:STANDARD
BEGIN:DAYLIGHT
TZOFFSETFROM:+0100
TZOFFSETTO:+0200
TZNAME:CEST
DTSTART:20270328T010000
END:DAYLIGHT
BEGIN:STANDARD
TZOFFSETFROM:+0200
TZOFFSETTO:+0100
TZNAME:CET
DTSTART:20271031T010000
END:STANDARD
END:VTIMEZONE
BEGIN:VEVENT
DTSTART;TZID=Europe/Berlin:20260602T193000
DTEND;TZID=Europe/Berlin:20260602T213000
DTSTAMP:20260421T130052
CREATED:20251224T093019Z
LAST-MODIFIED:20251224T094123Z
UID:10000684-1780428600-1780435800@bobs.de
SUMMARY:Kneipenquiz im BOB'S Haunstetten
DESCRIPTION:🎉 Quiz-Night bei BOB’S Fast- and Slowfood Haunstetten! 🎉 \nJeden Dienstag heißt es: Miträtseln\, Mitlachen & Mitgewinnen! 🏆\nBei unserem Quiz führt euch Professor Arnoldini durch spannende Fragen aus allen möglichen Themen – mal easy\, mal richtig knifflig 🤯.\nOb Songraten\, Schätzfragen oder aktuelles Wissen – hier hat jede*r die Chance zu glänzen! ✨ \nOb allein oder in der Gruppe\, schnappt euch ein kühles Bier 🍻 und was Leckeres von unserer Karte 🍔🍟 – und los geht’s in einen Abend voller Spaß & Denksport! \nUnd das Beste: Mit etwas Glück gewinnt ihr direkt BOB’S Gutscheine und die Ehre der Quiz-Master! 🎁 \n💡 Tipp: Der Eintritt ist frei\, aber sichert euch vorab euren Tisch auf unserer Homepage oder telefonisch! \n📍 Wo? BOB’S Fast & Slowfood Haunstetten\n📅 Wann? (Fast) jeden Dienstag \nWir freuen uns auf euch! 🙌
URL:https://bobs.de/veranstaltungen/kneipenquiz-im-bobs-haunstetten/2026-06-02/
LOCATION:BOB’S Fast & Slowfood Haunstetten\, Auf dem Nol 31\, Augsburg\, 86179\, Germany
CATEGORIES:Augsburg,Haunstetten
ATTACH;FMTTYPE=image/webp:https://bobs.de/wp-content/uploads/2025/02/Bobs-VA-Seite-940-x-500-px-4.webp
END:VEVENT
BEGIN:VEVENT
DTSTART;TZID=Europe/Berlin:20260609T193000
DTEND;TZID=Europe/Berlin:20260609T213000
DTSTAMP:20260421T130052
CREATED:20251224T093019Z
LAST-MODIFIED:20251224T094123Z
UID:10000685-1781033400-1781040600@bobs.de
SUMMARY:Kneipenquiz im BOB'S Haunstetten
DESCRIPTION:🎉 Quiz-Night bei BOB’S Fast- and Slowfood Haunstetten! 🎉 \nJeden Dienstag heißt es: Miträtseln\, Mitlachen & Mitgewinnen! 🏆\nBei unserem Quiz führt euch Professor Arnoldini durch spannende Fragen aus allen möglichen Themen – mal easy\, mal richtig knifflig 🤯.\nOb Songraten\, Schätzfragen oder aktuelles Wissen – hier hat jede*r die Chance zu glänzen! ✨ \nOb allein oder in der Gruppe\, schnappt euch ein kühles Bier 🍻 und was Leckeres von unserer Karte 🍔🍟 – und los geht’s in einen Abend voller Spaß & Denksport! \nUnd das Beste: Mit etwas Glück gewinnt ihr direkt BOB’S Gutscheine und die Ehre der Quiz-Master! 🎁 \n💡 Tipp: Der Eintritt ist frei\, aber sichert euch vorab euren Tisch auf unserer Homepage oder telefonisch! \n📍 Wo? BOB’S Fast & Slowfood Haunstetten\n📅 Wann? (Fast) jeden Dienstag \nWir freuen uns auf euch! 🙌
URL:https://bobs.de/veranstaltungen/kneipenquiz-im-bobs-haunstetten/2026-06-09/
LOCATION:BOB’S Fast & Slowfood Haunstetten\, Auf dem Nol 31\, Augsburg\, 86179\, Germany
CATEGORIES:Augsburg,Haunstetten
ATTACH;FMTTYPE=image/webp:https://bobs.de/wp-content/uploads/2025/02/Bobs-VA-Seite-940-x-500-px-4.webp
END:VEVENT
BEGIN:VEVENT
DTSTART;TZID=Europe/Berlin:20260612T173000
DTEND;TZID=Europe/Berlin:20260612T220000
DTSTAMP:20260421T130052
CREATED:20260130T160036Z
LAST-MODIFIED:20260130T160036Z
UID:10000929-1781285400-1781301600@bobs.de
SUMMARY:Kanonenfieber | Sommer am Kiez
DESCRIPTION:Die Band aus Bamberg erobert gerade die Live-Bühnen dieser Welt – im Juni kommen sie mit ihrer Mittjahresoffensive zu uns nach Augsburg. \nMit einem einzigartigen Konzept\, weit entfernt von Kriegsverherrlichung\, taucht die Band für ihre Songs in Archive und längst vergessene Korrespondenzen zwischen Kriegern und ihrer Heimat ein\, um dem namenlosen Grauen wieder ein Gesicht zu geben.\nIhre Songs basieren auf realen Geschichten und werden von der Band musikalisch untermalt. Der Fokus liegt auf individuellen Schicksalen aus dem persönlichen Umfeld und ist weit mehr als eine Aufarbeitung des Grauens\, die Geschichten stehen stellvertretend für Millionen von Opfern in den kalten Schützengräben\, tiefen Gewässern und hohen Lüften der unzähligen Gefechte.
URL:https://bobs.de/veranstaltungen/kanonenfieber-sommer-am-kiez/
LOCATION:Sommer am Kiez\, Branderstr. 1 (Helmut Haller Platz)\, Augsburg\, 86154\, Germany
ATTACH;FMTTYPE=image/webp:https://bobs.de/wp-content/uploads/2026/01/Header-Vorlagen-2.webp
END:VEVENT
BEGIN:VEVENT
DTSTART;TZID=Europe/Berlin:20260616T193000
DTEND;TZID=Europe/Berlin:20260616T213000
DTSTAMP:20260421T130052
CREATED:20251224T093019Z
LAST-MODIFIED:20251224T094123Z
UID:10000686-1781638200-1781645400@bobs.de
SUMMARY:Kneipenquiz im BOB'S Haunstetten
DESCRIPTION:🎉 Quiz-Night bei BOB’S Fast- and Slowfood Haunstetten! 🎉 \nJeden Dienstag heißt es: Miträtseln\, Mitlachen & Mitgewinnen! 🏆\nBei unserem Quiz führt euch Professor Arnoldini durch spannende Fragen aus allen möglichen Themen – mal easy\, mal richtig knifflig 🤯.\nOb Songraten\, Schätzfragen oder aktuelles Wissen – hier hat jede*r die Chance zu glänzen! ✨ \nOb allein oder in der Gruppe\, schnappt euch ein kühles Bier 🍻 und was Leckeres von unserer Karte 🍔🍟 – und los geht’s in einen Abend voller Spaß & Denksport! \nUnd das Beste: Mit etwas Glück gewinnt ihr direkt BOB’S Gutscheine und die Ehre der Quiz-Master! 🎁 \n💡 Tipp: Der Eintritt ist frei\, aber sichert euch vorab euren Tisch auf unserer Homepage oder telefonisch! \n📍 Wo? BOB’S Fast & Slowfood Haunstetten\n📅 Wann? (Fast) jeden Dienstag \nWir freuen uns auf euch! 🙌
URL:https://bobs.de/veranstaltungen/kneipenquiz-im-bobs-haunstetten/2026-06-16/
LOCATION:BOB’S Fast & Slowfood Haunstetten\, Auf dem Nol 31\, Augsburg\, 86179\, Germany
CATEGORIES:Augsburg,Haunstetten
ATTACH;FMTTYPE=image/webp:https://bobs.de/wp-content/uploads/2025/02/Bobs-VA-Seite-940-x-500-px-4.webp
END:VEVENT
BEGIN:VEVENT
DTSTART;TZID=Europe/Berlin:20260619T173000
DTEND;TZID=Europe/Berlin:20260619T220000
DTSTAMP:20260421T130052
CREATED:20260319T134255Z
LAST-MODIFIED:20260319T134255Z
UID:10000933-1781890200-1781906400@bobs.de
SUMMARY:Bonfire + Half Step Down | Sommer am Kiez
DESCRIPTION:Bonfire zählen seit Jahrzehnten zu den bedeutendsten deutschen Hardrock-Bands und feierten besonders mit Alben wie Fireworks\, Point Blank und Don’t Touch the Light internationale Erfolge. \nMit eingängigen Melodien\, starken Gitarrenriffs und energiegeladenen Shows begeistern sie bis heute ein weltweites Publikum. Bandgründer Hans Ziller führt die Gruppe weiterhin erfolgreich\, zuletzt mit dem Album Higher Ground und mehreren Single-Veröffentlichungen.  2026 kommt die Band erstmals zu uns nach Augsburg auf den “Sommer am Kiez”! \nMit dabei als Support sind Half Step Down! American / Scandinavian Rock direkt from Austria! Ihr Markenzeichen sind große\, mächtige Refrains mit Texten die kein Thema scheuen. Bei ihren Songs geht es um Hoffnung\, Rebellion\, Liebe und Verlust. Ehrlich und direkt!
URL:https://bobs.de/veranstaltungen/bonfire-half-step-down-sommer-am-kiez/
LOCATION:Sommer am Kiez\, Branderstr. 1 (Helmut Haller Platz)\, Augsburg\, 86154\, Germany
ATTACH;FMTTYPE=image/webp:https://bobs.de/wp-content/uploads/2026/03/Photo-Bonfire-1.webp
END:VEVENT
BEGIN:VEVENT
DTSTART;TZID=Europe/Berlin:20260620T173000
DTEND;TZID=Europe/Berlin:20260620T220000
DTSTAMP:20260421T130052
CREATED:20251111T110146Z
LAST-MODIFIED:20251111T111353Z
UID:10000654-1781976600-1781992800@bobs.de
SUMMARY:April Art + League of Distortion + Venues | Sommer am Kiez
DESCRIPTION:Am 20.06.26 wird es am Helmut-Haller-Platz laut und energiegeladen: April Art bringen als Headliner ihre explosive Mischung aus Modern Rock und Metal auf die Bühne und garantieren eine Show voller Power und Emotionen.  \nMit League of Distortion erwartet das Publikum eine wuchtige Portion Alternative Metal\, getragen von starken Riffs und markanter Stimme.  \nUnd Venues sorgen mit ihrem melodischen Metalcore für Gänsehaut und mitreißende Intensität.  \nGemeinsam versprechen die drei Bands einen Abend\, der uns alle begeistert. Also: wer Metal auch so liebt wie wir\, der darf dieses Line-up auf keinen Fall verpassen! \n👉 Tickets gibt’s hier 👈 
URL:https://bobs.de/veranstaltungen/april-art-sommer-am-kiez/
LOCATION:Sommer am Kiez\, Branderstr. 1 (Helmut Haller Platz)\, Augsburg\, 86154\, Germany
CATEGORIES:Augsburg,Konzert,Sommer am Kiez
ATTACH;FMTTYPE=image/webp:https://bobs.de/wp-content/uploads/2025/11/Header-Vorlagen-2.webp
END:VEVENT
BEGIN:VEVENT
DTSTART;TZID=Europe/Berlin:20260623T193000
DTEND;TZID=Europe/Berlin:20260623T213000
DTSTAMP:20260421T130052
CREATED:20251224T093019Z
LAST-MODIFIED:20251224T094123Z
UID:10000687-1782243000-1782250200@bobs.de
SUMMARY:Kneipenquiz im BOB'S Haunstetten
DESCRIPTION:🎉 Quiz-Night bei BOB’S Fast- and Slowfood Haunstetten! 🎉 \nJeden Dienstag heißt es: Miträtseln\, Mitlachen & Mitgewinnen! 🏆\nBei unserem Quiz führt euch Professor Arnoldini durch spannende Fragen aus allen möglichen Themen – mal easy\, mal richtig knifflig 🤯.\nOb Songraten\, Schätzfragen oder aktuelles Wissen – hier hat jede*r die Chance zu glänzen! ✨ \nOb allein oder in der Gruppe\, schnappt euch ein kühles Bier 🍻 und was Leckeres von unserer Karte 🍔🍟 – und los geht’s in einen Abend voller Spaß & Denksport! \nUnd das Beste: Mit etwas Glück gewinnt ihr direkt BOB’S Gutscheine und die Ehre der Quiz-Master! 🎁 \n💡 Tipp: Der Eintritt ist frei\, aber sichert euch vorab euren Tisch auf unserer Homepage oder telefonisch! \n📍 Wo? BOB’S Fast & Slowfood Haunstetten\n📅 Wann? (Fast) jeden Dienstag \nWir freuen uns auf euch! 🙌
URL:https://bobs.de/veranstaltungen/kneipenquiz-im-bobs-haunstetten/2026-06-23/
LOCATION:BOB’S Fast & Slowfood Haunstetten\, Auf dem Nol 31\, Augsburg\, 86179\, Germany
CATEGORIES:Augsburg,Haunstetten
ATTACH;FMTTYPE=image/webp:https://bobs.de/wp-content/uploads/2025/02/Bobs-VA-Seite-940-x-500-px-4.webp
END:VEVENT
BEGIN:VEVENT
DTSTART;TZID=Europe/Berlin:20260626T173000
DTEND;TZID=Europe/Berlin:20260626T220000
DTSTAMP:20260421T130052
CREATED:20250912T175610Z
LAST-MODIFIED:20260303T092713Z
UID:10000647-1782495000-1782511200@bobs.de
SUMMARY:Fiddlers Green + Hellraisers and Beerdrinkers I Sommer am Kiez
DESCRIPTION:Seit 1990 zählen Fiddler’s Green zu den erfolgreichsten Folk-Rock-Bands Europas und sind mit ihrem energiegeladenen Irish Speedfolk weltweit gefragt. \nMit über 25 Alben\, Hunderttausenden Fans und unzähligen Shows von Clubs bis Arenen haben sie sich ihren Kultstatus erspielt. \nIhr neues Album „The Green Machine“ zeigt die Band so abwechslungsreich wie nie – von Vollgas-Party-Sound über Balladen bis zu Country- und Western-Einflüssen.Auf der Bühne erwartet die Fans pure Energie\, packendes Storytelling und ein Konzert voller musikalischer Facetten. \nEröffnen werden an diesem Tag “Hellraisers and Beerdrinkers”. Die fünfköpfige Band aus dem Raum Schwäbisch Gmünd ist in den Clubs\, Kneipen und Festivals Süddeutschlands unterwegs. Ihre Mischung aus Irish Folk und Polka gepaart mit Ska\, Reggea und Bier beschreiben die Jungs selbst liebevoll als “Gaudi Folk”. Dieser bringt Menschen von 6-99\, Punker bis Banker und „Friends and Folks“ zum Tanzen und in bester Laune zusammen.
URL:https://bobs.de/veranstaltungen/fiddlers-green-i-sommer-am-kiez/
LOCATION:Sommer am Kiez\, Branderstr. 1 (Helmut Haller Platz)\, Augsburg\, 86154\, Germany
CATEGORIES:Augsburg,Konzert,Sommer am Kiez
ATTACH;FMTTYPE=image/webp:https://bobs.de/wp-content/uploads/2025/09/1-1.webp
END:VEVENT
BEGIN:VEVENT
DTSTART;TZID=Europe/Berlin:20260627T173000
DTEND;TZID=Europe/Berlin:20260627T220000
DTSTAMP:20260421T130052
CREATED:20250924T113438Z
LAST-MODIFIED:20260303T091353Z
UID:10000649-1782581400-1782597600@bobs.de
SUMMARY:Jaya the Cat + the Offenders | Sommer am Kiez
DESCRIPTION:Roots-Reggae\, Ska\, Punkrock: Die drei Hauptzutaten des Cocktails\, den Jaya The Cat uns auf den Kiez bringen! \nMit ihrer stilistischen Vielgliedrigkeit schaffen es die Wahl-Holländer letztlich auch\, ewige Nörgler und Genre-Puristen mindestens zum Mitwippen zu bewegen – wenn nicht sogar zum ausgelassenen Skanking oder Runden drehen im Pit. Herzschmerz\, Liebe\, Politik\, Irrsinn\, Optimismus: Diese Show hat alles\, was man sich von einem geilen Skapunk-Abend wünschen kann! \nMit dabei\, ihr neues Album „A Good Day For The Damned“! \nDavor heizen The Offenders ein! Die in Italien gegründete Band lebt mittlerweile in Berlin. Ihr Sound hat verschiedenste musikalische Einflüsse\, von treibenden Offbeats über rauen Punkrock bis hin zu SkaPunk ist hier alles vertreten. Ihre Songs sind eine direkte Ansage ans Herz und Hirn\, sowie ein gehöriger Tritt in den Hintern. \n\n👉 Tickets gibt’s hier 👈 
URL:https://bobs.de/veranstaltungen/jaya-the-cat-sommer-am-kiez/
LOCATION:Sommer am Kiez\, Branderstr. 1 (Helmut Haller Platz)\, Augsburg\, 86154\, Germany
CATEGORIES:Augsburg,Konzert,Sommer am Kiez
ATTACH;FMTTYPE=image/webp:https://bobs.de/wp-content/uploads/2025/09/4.webp
END:VEVENT
BEGIN:VEVENT
DTSTART;TZID=Europe/Berlin:20260628T173000
DTEND;TZID=Europe/Berlin:20260628T220000
DTSTAMP:20260421T130052
CREATED:20251111T110848Z
LAST-MODIFIED:20251111T111039Z
UID:10000655-1782667800-1782684000@bobs.de
SUMMARY:LaBrassBanda | Sommer am Kiez
DESCRIPTION:LaBrassBanda haben mit ihrer wilden Mischung aus Brass\, Pop\, Techno\, Ska und Punk die Blasmusik revolutioniert und begeistern seit 2007 ein Millionenpublikum. Mit Hits wie „Habediehre“\, „Übersee“ oder „Europa“ sorgen sie live regelmäßig für ekstatische Partys auf Festivals und in Hallen europaweit. Auch 2025 geht die Band wieder auf große Tour – im Gepäck ihr neues Album „Polka Party“\, das ab März erscheint. Fans dürfen sich auf energiegeladene Shows voller bayerischem Charme\, Spielfreude und unbändiger Tanzlust freuen. \n👉 Tickets gibt’s hier 👈 
URL:https://bobs.de/veranstaltungen/labrassbanda-sommer-am-kiez/
LOCATION:Sommer am Kiez\, Branderstr. 1 (Helmut Haller Platz)\, Augsburg\, 86154\, Germany
CATEGORIES:Augsburg,Konzert,Sommer am Kiez
ATTACH;FMTTYPE=image/webp:https://bobs.de/wp-content/uploads/2025/11/Header-Vorlagen-3.webp
END:VEVENT
BEGIN:VEVENT
DTSTART;TZID=Europe/Berlin:20260630T193000
DTEND;TZID=Europe/Berlin:20260630T213000
DTSTAMP:20260421T130052
CREATED:20251224T093019Z
LAST-MODIFIED:20251224T094123Z
UID:10000688-1782847800-1782855000@bobs.de
SUMMARY:Kneipenquiz im BOB'S Haunstetten
DESCRIPTION:🎉 Quiz-Night bei BOB’S Fast- and Slowfood Haunstetten! 🎉 \nJeden Dienstag heißt es: Miträtseln\, Mitlachen & Mitgewinnen! 🏆\nBei unserem Quiz führt euch Professor Arnoldini durch spannende Fragen aus allen möglichen Themen – mal easy\, mal richtig knifflig 🤯.\nOb Songraten\, Schätzfragen oder aktuelles Wissen – hier hat jede*r die Chance zu glänzen! ✨ \nOb allein oder in der Gruppe\, schnappt euch ein kühles Bier 🍻 und was Leckeres von unserer Karte 🍔🍟 – und los geht’s in einen Abend voller Spaß & Denksport! \nUnd das Beste: Mit etwas Glück gewinnt ihr direkt BOB’S Gutscheine und die Ehre der Quiz-Master! 🎁 \n💡 Tipp: Der Eintritt ist frei\, aber sichert euch vorab euren Tisch auf unserer Homepage oder telefonisch! \n📍 Wo? BOB’S Fast & Slowfood Haunstetten\n📅 Wann? (Fast) jeden Dienstag \nWir freuen uns auf euch! 🙌
URL:https://bobs.de/veranstaltungen/kneipenquiz-im-bobs-haunstetten/2026-06-30/
LOCATION:BOB’S Fast & Slowfood Haunstetten\, Auf dem Nol 31\, Augsburg\, 86179\, Germany
CATEGORIES:Augsburg,Haunstetten
ATTACH;FMTTYPE=image/webp:https://bobs.de/wp-content/uploads/2025/02/Bobs-VA-Seite-940-x-500-px-4.webp
END:VEVENT
END:VCALENDAR