BEGIN:VCALENDAR
VERSION:2.0
PRODID:-//Dein BOB&#039;S - ECPv6.15.20//NONSGML v1.0//EN
CALSCALE:GREGORIAN
METHOD:PUBLISH
X-ORIGINAL-URL:https://bobs.de
X-WR-CALDESC:Veranstaltungen für Dein BOB&#039;S
REFRESH-INTERVAL;VALUE=DURATION:PT1H
X-Robots-Tag:noindex
X-PUBLISHED-TTL:PT1H
BEGIN:VTIMEZONE
TZID:Europe/Berlin
BEGIN:DAYLIGHT
TZOFFSETFROM:+0100
TZOFFSETTO:+0200
TZNAME:CEST
DTSTART:20240331T010000
END:DAYLIGHT
BEGIN:STANDARD
TZOFFSETFROM:+0200
TZOFFSETTO:+0100
TZNAME:CET
DTSTART:20241027T010000
END:STANDARD
BEGIN:DAYLIGHT
TZOFFSETFROM:+0100
TZOFFSETTO:+0200
TZNAME:CEST
DTSTART:20250330T010000
END:DAYLIGHT
BEGIN:STANDARD
TZOFFSETFROM:+0200
TZOFFSETTO:+0100
TZNAME:CET
DTSTART:20251026T010000
END:STANDARD
BEGIN:DAYLIGHT
TZOFFSETFROM:+0100
TZOFFSETTO:+0200
TZNAME:CEST
DTSTART:20260329T010000
END:DAYLIGHT
BEGIN:STANDARD
TZOFFSETFROM:+0200
TZOFFSETTO:+0100
TZNAME:CET
DTSTART:20261025T010000
END:STANDARD
END:VTIMEZONE
BEGIN:VEVENT
DTSTART;TZID=Europe/Berlin:20250704T183000
DTEND;TZID=Europe/Berlin:20250704T220000
DTSTAMP:20260422T105409
CREATED:20250116T140102Z
LAST-MODIFIED:20250116T140229Z
UID:10000030-1751653800-1751666400@bobs.de
SUMMARY:Dubioza Kollektiv | Sommer am Kiez
DESCRIPTION:Tickets gibt es auf www.sommeramkiez.de und in unseren BOB’S Filialen in der Hammerschmiede\, Maxstraße\, Haunstetten und in München im Rock & Bowl. \nDubioza Kollektiv – Es war einmal (2003)\, in einer zwielichtigen Ecke der Welt\, in einem Land Namens Bosnien und Herzegowina\, wo eine Gruppe von Freunden beschloss\, eine Band zu gründen. Aber dies war keine gewöhnliche Band und sie wurde auch nicht unter gewöhnlichen Umständen gegründet. Neben den lokalen Einflüssen aus dem Balkan\, kamen musikalische Einflüsse aus der ganzen Welt dazu: Ska\, Punk\, Reggae\, Elektronik\, Hip-Hop. Das sind Dubioza Kolektiv.  \nSie nehmen traditionelle musikalische Formen auf und bereichern mit ihrer einzigartigen Aussicht\, die frischen Wind in die Musiklandschaft bläst. Wenn Ihr offen für diese Erfahrung seid\, könnten sie auch euer Leben verändern.
URL:https://bobs.de/veranstaltungen/dubioza-kollektiv-sommer-am-kiez/
LOCATION:Sommer am Kiez\, Branderstr. 1 (Helmut Haller Platz)\, Augsburg\, 86154\, Germany
ATTACH;FMTTYPE=image/webp:https://bobs.de/wp-content/uploads/2025/01/DKHORI1-scaled.webp
ORGANIZER;CN="Sommer am Kiez":MAILTO:sommeramkiez@mein-bobs.de
END:VEVENT
BEGIN:VEVENT
DTSTART;TZID=Europe/Berlin:20250711T173000
DTEND;TZID=Europe/Berlin:20250711T220000
DTSTAMP:20260422T105409
CREATED:20241126T114850Z
LAST-MODIFIED:20250509T155826Z
UID:10000006-1752255000-1752271200@bobs.de
SUMMARY:Mr. Hurley & Die Pulveraffen + Steve'n'Seagulls | Sommer am Kiez
DESCRIPTION: \n\nTickets gibt’s auf www.sommeramkiez.de! \nUnsere Lieblingspiratenband aus Osnabrück schiffert nach Augsburg: Mr. Hurley und die Pulveraffen legen am Kiez an! Im Laderaum ihres Piratenschiffs dabei: ihr neues Album LEUCHTTURM und damit all das\, was die letzten Jahre so schmerzlich vermissen ließen – Spaß\, Optimismus\, unbändige Lebensfreude! Wie eine in Musik gepresste Tour durch die Hafenkneipen entführen die Osnabrücker Piraten-Folk-Rocker euch wieder in eine Welt voller Seeräuber\, Riesenkraken und Meerjungfrauen\, die sicher nie wirklich so bunt war – die wir aber alle in dieser Zeit bitter nötig haben. \nEröffnen werden am Abend Steve’n’Seagulls! Seit 2014 haben die Finnen vier Alben herausgebracht. Ihr Debüt Farm Machine hatte 170 Shows in Europa und den USA zur Folge. Sie eroberten die Herzen der Fans sowohl in den kleinen Clubs als auch auf den großen Festivals. Bis heute haben die Videos der Band 280 Million Clicks bei YouTube. Sie waren zu Gast bei den größten Festivals des Planeten – inklusive Wacken Open Air\, Rescontres Trans Musicales\, Nova Rock\, Sweden Rock… und nun kommen sie zum “Sommer am Kiez”! In über 30 Ländern und 4 Kontinenten haben Steve´n´Seagulls ihre Fans begeistert. Und die Reise geht weiter\, und zwar mit einem neuen Album!
URL:https://bobs.de/veranstaltungen/mr-hurley-die-pulveraffen-stevenseagulls-sommer-am-kiez/
LOCATION:Sommer am Kiez\, Branderstr. 1 (Helmut Haller Platz)\, Augsburg\, 86154\, Germany
ATTACH;FMTTYPE=image/webp:https://bobs.de/wp-content/uploads/2024/11/Bandfoto-2-1.webp
ORGANIZER;CN="Sommer am Kiez":MAILTO:sommeramkiez@mein-bobs.de
END:VEVENT
BEGIN:VEVENT
DTSTART;TZID=Europe/Berlin:20250719T180000
DTEND;TZID=Europe/Berlin:20250719T220000
DTSTAMP:20260422T105409
CREATED:20241126T115737Z
LAST-MODIFIED:20250211T120441Z
UID:10000007-1752948000-1752962400@bobs.de
SUMMARY:Unantastbar + Artefuckt | Sommer am Kiez
DESCRIPTION:– ausverkauft – \nEhrlich\, rotzig\, kritisch\, aber auch mit viel Mut zu Gefühl und Herzblut. Unantastbar sind nach 20 Jahren Bandhistorie ohne Zweifel zu einer Institution in Sachen deutschsprachigem Punkrock gereift. Aus dem Leben gegriffene Texte\, gepaart mit mitreißende Gitarren-Riffs\, immer auf ihrer Suche nach Freiheit und auf der Flucht vor dem System. Seit 2004 stehen die Südtiroler mit ihrer unvergleichbaren Attitüde für raue\, rebellische\, authentische und ehrliche Musik.  \nSupport: ARTEFUCKT
URL:https://bobs.de/veranstaltungen/unantastbar-artefuckt-sommer-am-kiez/
LOCATION:Sommer am Kiez\, Branderstr. 1 (Helmut Haller Platz)\, Augsburg\, 86154\, Germany
ATTACH;FMTTYPE=image/webp:https://bobs.de/wp-content/uploads/2024/11/unantastbar-2024-a-scaled.webp
ORGANIZER;CN="Sommer am Kiez":MAILTO:sommeramkiez@mein-bobs.de
END:VEVENT
BEGIN:VEVENT
DTSTART;TZID=Europe/Berlin:20250726T180000
DTEND;TZID=Europe/Berlin:20250726T220000
DTSTAMP:20260422T105409
CREATED:20241126T120028Z
LAST-MODIFIED:20250509T155654Z
UID:10000008-1753552800-1753567200@bobs.de
SUMMARY:Fiddlers Green + The Lorbank Collective | Sommer am Kiez
DESCRIPTION:Tickets unter www.sommeramkiez.de! \nSeit ihrer Gründung im Jahr 1990 hat hat sich die Band FIDDLER’S GREEN den Status als eine der beliebtesten\, erfolgreichsten und beständigsten Formationen innerhalb der europäischen Folk Rock-Community erarbeitet. Eine bestens geölte Irish Speedfolk-Maschine\, die sich nun mit ihrem neuen Studioalbum „The Green Machine“ auf dem Zenit ihres Schaffens zeigt und damit direkt auf den Helmut-Haller-Platz in Augsburg ansteuert! \nDer Folk-Rock von The Lorbank Collective ist wie ein Lagerfeuer: Er soll wärmen und lodern\, Menschen zusammenbringen und Geschichten erzählen. Wer eine Mischung aus Melancholie und purer Energie schätzt\, auf Banjo-Klänge und mehrstimmigen Gesang steht und sich von ehrlichen Songtexten berühren lässt\, ist bei The Lorbank Collective genau richtig.
URL:https://bobs.de/veranstaltungen/fiddlers-green-sommer-am-kiez/
LOCATION:Sommer am Kiez\, Branderstr. 1 (Helmut Haller Platz)\, Augsburg\, 86154\, Germany
ATTACH;FMTTYPE=image/webp:https://bobs.de/wp-content/uploads/2024/11/fg_tgm_2024_presspic1_by_holger_fichtner-scaled.webp
ORGANIZER;CN="Sommer am Kiez":MAILTO:sommeramkiez@mein-bobs.de
END:VEVENT
END:VCALENDAR