BEGIN:VCALENDAR
VERSION:2.0
PRODID:-//Dein BOB&#039;S - ECPv6.15.20//NONSGML v1.0//EN
CALSCALE:GREGORIAN
METHOD:PUBLISH
X-ORIGINAL-URL:https://bobs.de
X-WR-CALDESC:Veranstaltungen für Dein BOB&#039;S
REFRESH-INTERVAL;VALUE=DURATION:PT1H
X-Robots-Tag:noindex
X-PUBLISHED-TTL:PT1H
BEGIN:VTIMEZONE
TZID:Europe/Berlin
BEGIN:DAYLIGHT
TZOFFSETFROM:+0100
TZOFFSETTO:+0200
TZNAME:CEST
DTSTART:20240331T010000
END:DAYLIGHT
BEGIN:STANDARD
TZOFFSETFROM:+0200
TZOFFSETTO:+0100
TZNAME:CET
DTSTART:20241027T010000
END:STANDARD
BEGIN:DAYLIGHT
TZOFFSETFROM:+0100
TZOFFSETTO:+0200
TZNAME:CEST
DTSTART:20250330T010000
END:DAYLIGHT
BEGIN:STANDARD
TZOFFSETFROM:+0200
TZOFFSETTO:+0100
TZNAME:CET
DTSTART:20251026T010000
END:STANDARD
BEGIN:DAYLIGHT
TZOFFSETFROM:+0100
TZOFFSETTO:+0200
TZNAME:CEST
DTSTART:20260329T010000
END:DAYLIGHT
BEGIN:STANDARD
TZOFFSETFROM:+0200
TZOFFSETTO:+0100
TZNAME:CET
DTSTART:20261025T010000
END:STANDARD
END:VTIMEZONE
BEGIN:VEVENT
DTSTART;TZID=Europe/Berlin:20250523T170000
DTEND;TZID=Europe/Berlin:20250523T230000
DTSTAMP:20260422T140034
CREATED:20241129T135935Z
LAST-MODIFIED:20250509T155240Z
UID:10000010-1748019600-1748041200@bobs.de
SUMMARY:Reconstruction Tour | Sommer am Kiez
DESCRIPTION:Tickets gibt’s unter www.sommeramkiez.de || \nPunk in Bestform bringen wir ans Gaswerk in Augsburg! \nUnser Line Up mit WIZO\, Pennywise\, Propagandhi\, Comeback Kid\, The Iron Roses und Dead Pioneers verspricht einen mega Tag!\nWir freuen uns auf bestes Bier\, geile Leute und den hoffentlich größten Pogo Augsburgs! ???? \nPräsentiert von: Away From Life\, Ox Fanzine\, FUZE\, Visions\, SLAM
URL:https://bobs.de/veranstaltungen/reconstruction-tour-sommer-am-kiez/
ATTACH;FMTTYPE=image/webp:https://bobs.de/wp-content/uploads/2024/11/fb-headers.webp
END:VEVENT
END:VCALENDAR