BEGIN:VCALENDAR
VERSION:2.0
PRODID:-//Dein BOB&#039;S - ECPv6.15.20//NONSGML v1.0//EN
CALSCALE:GREGORIAN
METHOD:PUBLISH
X-WR-CALNAME:Dein BOB&#039;S
X-ORIGINAL-URL:https://bobs.de
X-WR-CALDESC:Veranstaltungen für Dein BOB&#039;S
REFRESH-INTERVAL;VALUE=DURATION:PT1H
X-Robots-Tag:noindex
X-PUBLISHED-TTL:PT1H
BEGIN:VTIMEZONE
TZID:Europe/Berlin
BEGIN:DAYLIGHT
TZOFFSETFROM:+0100
TZOFFSETTO:+0200
TZNAME:CEST
DTSTART:20250330T010000
END:DAYLIGHT
BEGIN:STANDARD
TZOFFSETFROM:+0200
TZOFFSETTO:+0100
TZNAME:CET
DTSTART:20251026T010000
END:STANDARD
BEGIN:DAYLIGHT
TZOFFSETFROM:+0100
TZOFFSETTO:+0200
TZNAME:CEST
DTSTART:20260329T010000
END:DAYLIGHT
BEGIN:STANDARD
TZOFFSETFROM:+0200
TZOFFSETTO:+0100
TZNAME:CET
DTSTART:20261025T010000
END:STANDARD
BEGIN:DAYLIGHT
TZOFFSETFROM:+0100
TZOFFSETTO:+0200
TZNAME:CEST
DTSTART:20270328T010000
END:DAYLIGHT
BEGIN:STANDARD
TZOFFSETFROM:+0200
TZOFFSETTO:+0100
TZNAME:CET
DTSTART:20271031T010000
END:STANDARD
END:VTIMEZONE
BEGIN:VEVENT
DTSTART;TZID=Europe/Berlin:20260718T173000
DTEND;TZID=Europe/Berlin:20260718T220000
DTSTAMP:20260421T154822
CREATED:20251111T133950Z
LAST-MODIFIED:20260105T142216Z
UID:10000658-1784395800-1784412000@bobs.de
SUMMARY:Unantastbar + Artefuckt | Sommer am Kiez
DESCRIPTION:Ehrlich\, rotzig\, kritisch\, aber auch mit viel Mut zu Gefühl und Herzblut. Unantastbar sind nach 20 Jahren Bandhistorie ohne Zweifel zu einer Institution in Sachen deutschsprachigem Punkrock gereift. Aus dem Leben gegriffene Texte\, gepaart mit mitreißende Gitarren-Riffs\, immer auf ihrer Suche nach Freiheit und auf der Flucht vor dem System. Seit 2004 stehen die Südtiroler mit ihrer unvergleichbaren Attitüde für raue\, rebellische\, authentische und ehrliche Musik.  \nSupport: Artefuckt \n– Die Tickets sind bereits ausverkauft\, hier wird es keine Abendkasse geben –
URL:https://bobs.de/veranstaltungen/unantastbar-artefuckt-sommer-am-kiez-2/
LOCATION:Sommer am Kiez\, Branderstr. 1 (Helmut Haller Platz)\, Augsburg\, 86154\, Germany
CATEGORIES:Augsburg,Konzert,Sommer am Kiez
ATTACH;FMTTYPE=image/webp:https://bobs.de/wp-content/uploads/2025/11/Header-Vorlagen-4-1.webp
ORGANIZER;CN="Sommer am Kiez":MAILTO:sommeramkiez@mein-bobs.de
END:VEVENT
END:VCALENDAR