BEGIN:VCALENDAR
VERSION:2.0
PRODID:-//Dein BOB&#039;S - ECPv6.15.20//NONSGML v1.0//EN
CALSCALE:GREGORIAN
METHOD:PUBLISH
X-WR-CALNAME:Dein BOB&#039;S
X-ORIGINAL-URL:https://bobs.de
X-WR-CALDESC:Veranstaltungen für Dein BOB&#039;S
REFRESH-INTERVAL;VALUE=DURATION:PT1H
X-Robots-Tag:noindex
X-PUBLISHED-TTL:PT1H
BEGIN:VTIMEZONE
TZID:Europe/Berlin
BEGIN:DAYLIGHT
TZOFFSETFROM:+0100
TZOFFSETTO:+0200
TZNAME:CEST
DTSTART:20250330T010000
END:DAYLIGHT
BEGIN:STANDARD
TZOFFSETFROM:+0200
TZOFFSETTO:+0100
TZNAME:CET
DTSTART:20251026T010000
END:STANDARD
BEGIN:DAYLIGHT
TZOFFSETFROM:+0100
TZOFFSETTO:+0200
TZNAME:CEST
DTSTART:20260329T010000
END:DAYLIGHT
BEGIN:STANDARD
TZOFFSETFROM:+0200
TZOFFSETTO:+0100
TZNAME:CET
DTSTART:20261025T010000
END:STANDARD
BEGIN:DAYLIGHT
TZOFFSETFROM:+0100
TZOFFSETTO:+0200
TZNAME:CEST
DTSTART:20270328T010000
END:DAYLIGHT
BEGIN:STANDARD
TZOFFSETFROM:+0200
TZOFFSETTO:+0100
TZNAME:CET
DTSTART:20271031T010000
END:STANDARD
END:VTIMEZONE
BEGIN:VEVENT
DTSTART;TZID=Europe/Berlin:20260425T210000
DTEND;TZID=Europe/Berlin:20260426T210000
DTSTAMP:20260421T114144
CREATED:20260415T114355Z
LAST-MODIFIED:20260415T114442Z
UID:10000936-1777150800-1777237200@bobs.de
SUMMARY:DJ Abend mit DJ Markus
DESCRIPTION:Feiert zu feinster Rock Musik euer Wochenende bei uns in der Kiez Bar! 🤘🏼 \nNach dem Kirschblütenfest könnt ihr bei uns weiter feiern – kommt vorbei\, schnappt euch ein Bier und freut euch über einen geilen Mix von DJ Markus.
URL:https://bobs.de/veranstaltungen/dj-abend-mit-dj-markus/
LOCATION:BOB’S am Kiez\, Ulmer Str. 43\, Augsburg\, 86154\, Germany
CATEGORIES:Augsburg
ATTACH;FMTTYPE=image/webp:https://bobs.de/wp-content/uploads/2026/04/Header-FB-Veranstaltungen-1.webp
ORGANIZER;CN="BOB'S am Kiez":MAILTO:oberhausen@bobs.de
END:VEVENT
END:VCALENDAR