BEGIN:VCALENDAR
VERSION:2.0
PRODID:-//Dein BOB&#039;S - ECPv6.15.20//NONSGML v1.0//EN
CALSCALE:GREGORIAN
METHOD:PUBLISH
X-ORIGINAL-URL:https://bobs.de
X-WR-CALDESC:Veranstaltungen für Dein BOB&#039;S
REFRESH-INTERVAL;VALUE=DURATION:PT1H
X-Robots-Tag:noindex
X-PUBLISHED-TTL:PT1H
BEGIN:VTIMEZONE
TZID:Europe/Berlin
BEGIN:DAYLIGHT
TZOFFSETFROM:+0100
TZOFFSETTO:+0200
TZNAME:CEST
DTSTART:20250330T010000
END:DAYLIGHT
BEGIN:STANDARD
TZOFFSETFROM:+0200
TZOFFSETTO:+0100
TZNAME:CET
DTSTART:20251026T010000
END:STANDARD
BEGIN:DAYLIGHT
TZOFFSETFROM:+0100
TZOFFSETTO:+0200
TZNAME:CEST
DTSTART:20260329T010000
END:DAYLIGHT
BEGIN:STANDARD
TZOFFSETFROM:+0200
TZOFFSETTO:+0100
TZNAME:CET
DTSTART:20261025T010000
END:STANDARD
BEGIN:DAYLIGHT
TZOFFSETFROM:+0100
TZOFFSETTO:+0200
TZNAME:CEST
DTSTART:20270328T010000
END:DAYLIGHT
BEGIN:STANDARD
TZOFFSETFROM:+0200
TZOFFSETTO:+0100
TZNAME:CET
DTSTART:20271031T010000
END:STANDARD
END:VTIMEZONE
BEGIN:VEVENT
DTSTART;TZID=Europe/Berlin:20260424T223000
DTEND;TZID=Europe/Berlin:20260425T003000
DTSTAMP:20260421T114300
CREATED:20260416T145245Z
LAST-MODIFIED:20260416T145245Z
UID:10000937-1777069800-1777077000@bobs.de
SUMMARY:The Mannish Boys live
DESCRIPTION:The Mannish Boys heizen auf unserer Bühne ein\, mit einer ordentlichen Portion Rock’n’Roll geht es in der 7. geilsten Bar der Welt rund. \nDer Eintritt ist  frei – deshalb schaut auf ein Bier rein bei uns – auch gerne nach dem draußen stattfindenden Kirschblütenfest!
URL:https://bobs.de/veranstaltungen/the-mannish-boys-live/
LOCATION:BOB’S am Kiez\, Ulmer Str. 43\, Augsburg\, 86154\, Germany
CATEGORIES:Augsburg,Konzert
ATTACH;FMTTYPE=image/webp:https://bobs.de/wp-content/uploads/2026/04/Header-FB-Veranstaltungen-2.webp
END:VEVENT
END:VCALENDAR