BEGIN:VCALENDAR
VERSION:2.0
PRODID:-//Dein BOB&#039;S - ECPv6.15.20//NONSGML v1.0//EN
CALSCALE:GREGORIAN
METHOD:PUBLISH
X-ORIGINAL-URL:https://bobs.de
X-WR-CALDESC:Veranstaltungen für Dein BOB&#039;S
REFRESH-INTERVAL;VALUE=DURATION:PT1H
X-Robots-Tag:noindex
X-PUBLISHED-TTL:PT1H
BEGIN:VTIMEZONE
TZID:Europe/Berlin
BEGIN:DAYLIGHT
TZOFFSETFROM:+0100
TZOFFSETTO:+0200
TZNAME:CEST
DTSTART:20250330T010000
END:DAYLIGHT
BEGIN:STANDARD
TZOFFSETFROM:+0200
TZOFFSETTO:+0100
TZNAME:CET
DTSTART:20251026T010000
END:STANDARD
BEGIN:DAYLIGHT
TZOFFSETFROM:+0100
TZOFFSETTO:+0200
TZNAME:CEST
DTSTART:20260329T010000
END:DAYLIGHT
BEGIN:STANDARD
TZOFFSETFROM:+0200
TZOFFSETTO:+0100
TZNAME:CET
DTSTART:20261025T010000
END:STANDARD
BEGIN:DAYLIGHT
TZOFFSETFROM:+0100
TZOFFSETTO:+0200
TZNAME:CEST
DTSTART:20270328T010000
END:DAYLIGHT
BEGIN:STANDARD
TZOFFSETFROM:+0200
TZOFFSETTO:+0100
TZNAME:CET
DTSTART:20271031T010000
END:STANDARD
END:VTIMEZONE
BEGIN:VEVENT
DTSTART;TZID=Europe/Berlin:20260312T190000
DTEND;TZID=Europe/Berlin:20260312T220000
DTSTAMP:20260421T130831
CREATED:20260204T100119Z
LAST-MODIFIED:20260204T100554Z
UID:10000930-1773342000-1773352800@bobs.de
SUMMARY:Hitster Rock-Tour mit RADIO BOB!
DESCRIPTION:RADIO BOB! kommt im Februar und März in sieben ausgewählten Rocklocations vorbei\, um mit Euch im Kneipenquiz der rockigsten Sorte um Ruhm und Ehre zu zocken – passende Preise sind natürlich am Start! Am 12.03.26 kommen sie zu ins ins BOB’S Slow- & Fastfood Haunstetten. \nAlle Infos & Anmeldung findet ihr unter: https://www.radiobob.de/hitster-rock-tour-haunstetten-anmeldung
URL:https://bobs.de/veranstaltungen/hitster-rock-tour-mit-radio-bob/
LOCATION:BOB’S Fast & Slowfood Haunstetten\, Auf dem Nol 31\, Augsburg\, 86179\, Germany
CATEGORIES:Augsburg,Comedy & Unterhaltung
ATTACH;FMTTYPE=image/webp:https://bobs.de/wp-content/uploads/2026/02/Header-Vorlagen-3.webp
END:VEVENT
END:VCALENDAR