BEGIN:VCALENDAR
VERSION:2.0
PRODID:-//Dein BOB&#039;S - ECPv6.15.20//NONSGML v1.0//EN
CALSCALE:GREGORIAN
METHOD:PUBLISH
X-WR-CALNAME:Dein BOB&#039;S
X-ORIGINAL-URL:https://bobs.de
X-WR-CALDESC:Veranstaltungen für Dein BOB&#039;S
REFRESH-INTERVAL;VALUE=DURATION:PT1H
X-Robots-Tag:noindex
X-PUBLISHED-TTL:PT1H
BEGIN:VTIMEZONE
TZID:Europe/Berlin
BEGIN:DAYLIGHT
TZOFFSETFROM:+0100
TZOFFSETTO:+0200
TZNAME:CEST
DTSTART:20250330T010000
END:DAYLIGHT
BEGIN:STANDARD
TZOFFSETFROM:+0200
TZOFFSETTO:+0100
TZNAME:CET
DTSTART:20251026T010000
END:STANDARD
BEGIN:DAYLIGHT
TZOFFSETFROM:+0100
TZOFFSETTO:+0200
TZNAME:CEST
DTSTART:20260329T010000
END:DAYLIGHT
BEGIN:STANDARD
TZOFFSETFROM:+0200
TZOFFSETTO:+0100
TZNAME:CET
DTSTART:20261025T010000
END:STANDARD
BEGIN:DAYLIGHT
TZOFFSETFROM:+0100
TZOFFSETTO:+0200
TZNAME:CEST
DTSTART:20270328T010000
END:DAYLIGHT
BEGIN:STANDARD
TZOFFSETFROM:+0200
TZOFFSETTO:+0100
TZNAME:CET
DTSTART:20271031T010000
END:STANDARD
END:VTIMEZONE
BEGIN:VEVENT
DTSTART;TZID=Europe/Berlin:20260214T190000
DTEND;TZID=Europe/Berlin:20260214T235900
DTSTAMP:20260422T021131
CREATED:20260114T133714Z
LAST-MODIFIED:20260114T133827Z
UID:10000926-1771095600-1771113540@bobs.de
SUMMARY:Samstags Sause im Thorbräukeller
DESCRIPTION:Unsere legendären Faschingspartys im TBK haben Tradition! 🥳 \nAuch unsere  Samstags Sause ist wieder am Start! \nFreut euch auf: \n\n die besten Faschingshits 💃 🕺\nleckere Drinks 🥂\nPartysnacks 🌮\nKostümwettbewerb 👸\n\nWir freuen uns auf euch!
URL:https://bobs.de/veranstaltungen/samstags-sause-im-thorbraeukeller/
LOCATION:Thorbräu Bierkeller\, Heilig-Kreuz-Straße 20\, Augsburg\, 86152\, Germany
ATTACH;FMTTYPE=image/webp:https://bobs.de/wp-content/uploads/2026/01/tbk_tickets2_sa_ticket_1767861073-scaled.webp
END:VEVENT
END:VCALENDAR