BEGIN:VCALENDAR
VERSION:2.0
PRODID:-//Dein BOB&#039;S - ECPv6.15.20//NONSGML v1.0//EN
CALSCALE:GREGORIAN
METHOD:PUBLISH
X-WR-CALNAME:Dein BOB&#039;S
X-ORIGINAL-URL:https://bobs.de/en/
X-WR-CALDESC:Events for Dein BOB&#039;S
REFRESH-INTERVAL;VALUE=DURATION:PT1H
X-Robots-Tag:noindex
X-PUBLISHED-TTL:PT1H
BEGIN:VTIMEZONE
TZID:Europe/Berlin
BEGIN:DAYLIGHT
TZOFFSETFROM:+0100
TZOFFSETTO:+0200
TZNAME:CEST
DTSTART:20240331T010000
END:DAYLIGHT
BEGIN:STANDARD
TZOFFSETFROM:+0200
TZOFFSETTO:+0100
TZNAME:CET
DTSTART:20241027T010000
END:STANDARD
BEGIN:DAYLIGHT
TZOFFSETFROM:+0100
TZOFFSETTO:+0200
TZNAME:CEST
DTSTART:20250330T010000
END:DAYLIGHT
BEGIN:STANDARD
TZOFFSETFROM:+0200
TZOFFSETTO:+0100
TZNAME:CET
DTSTART:20251026T010000
END:STANDARD
BEGIN:DAYLIGHT
TZOFFSETFROM:+0100
TZOFFSETTO:+0200
TZNAME:CEST
DTSTART:20260329T010000
END:DAYLIGHT
BEGIN:STANDARD
TZOFFSETFROM:+0200
TZOFFSETTO:+0100
TZNAME:CET
DTSTART:20261025T010000
END:STANDARD
END:VTIMEZONE
BEGIN:VEVENT
DTSTART;TZID=Europe/Berlin:20250412T183000
DTEND;TZID=Europe/Berlin:20250412T223000
DTSTAMP:20260421T141739
CREATED:20241115T145937Z
LAST-MODIFIED:20250113T115830Z
UID:6714-1744482600-1744497000@bobs.de
SUMMARY:Hinz und Kunz Show - An evening full of comedy\, magic and entertainment!
DESCRIPTION:Look forward to an unforgettable evening with the unique Hinz and Kunz show! The two charismatic artists offer you a colorful mix of sketches\, dance\, magic\, juggling\, artistry\, music and comedy. With wit and charm\, they lead you through a varied program that offers everything from heart-warming moments to uproarious laughter.   \nWhat you can expect: \n\nA delicious dinner:\n\nWelcome drink (choice of various aperitifs\, e.g. Aperol Spritz or Hugo – with or without alcohol)\nMain course:\n\nRoast pork with dumplings and red cabbage or\nCheese spaetzle with side salad\nSalmon with wild rice and lemon-dill sauce\n\n\nDessert: Bavarian cream\n\n\nShow program:\nComedy\, magic\, artistry – Hinz and Kunz make the audience laugh and be amazed. Almost like a small circus where anything can happen. \nPerfect as a gift:\nThe show is perfect as a Christmas present\, for birthdays or simply as a surprise for someone you love.\n\nTickets:\nYou can buy tickets online here. Simply print out your ticket and give it as a gift! Program schedule:  \n\n18:30: Admission and welcome drink\n19:00: Start of dinner\n20:15: Start of the show\n21:30: Dessert and finale\n\n  \nDon’t miss out on this event and secure your tickets now for an evening full of laughter and magic. We look forward to seeing you!
URL:https://bobs.de/en/veranstaltungen/hinz-und-kunz-show-an-evening-full-of-comedy-magic-and-entertainment/
LOCATION:BOB’S Fast & Slowfood Haunstetten\, On the Nol 31\, Augsburg\, 86179\, Germany
CATEGORIES:Comedy & Entertainment,Gift ideas,Haunstetten
ATTACH;FMTTYPE=image/webp:https://bobs.de/wp-content/uploads/2024/10/IMG_20231109_210650-scaled.webp
END:VEVENT
END:VCALENDAR